BEGIN:VCALENDAR
VERSION:2.0
PRODID:-//wp-events-plugin.com//6.4.6.4//EN
TZID:Europe/Berlin
X-WR-TIMEZONE:Europe/Berlin
BEGIN:VEVENT
UID:303@zivilschutz-ooe.at
DTSTART;TZID=Europe/Berlin:20191125T180000
DTEND;TZID=Europe/Berlin:20191125T210000
DTSTAMP:20190718T055319Z
URL:https://zivilschutz-ooe.at/veranstaltungen/kalender/zak-basisausbildun
 g-uu/
SUMMARY:ZAK Basisausbildung UU
DESCRIPTION:Seminar “Basisausbildung” für die Bevölkerung im Bezirk U
 rfahr-Umgebung\n\nSeminarort: Bezirkshauptmannschaft Urfahr-Umgebung\, Peu
 erbachstraße 26\, 4040 Linz\n\nInfo und Anmeldung unter https://www.zivi
 lschutz-ooe.at/ausbildungen/zivilschutzakademie/ bzw. unter 0732 65 24 36
CATEGORIES:Zivilschutz-Akademie
END:VEVENT
BEGIN:VTIMEZONE
TZID:Europe/Berlin
X-LIC-LOCATION:Europe/Berlin
BEGIN:STANDARD
DTSTART:20191027T020000
TZOFFSETFROM:+0200
TZOFFSETTO:+0100
TZNAME:CET
END:STANDARD
END:VTIMEZONE
END:VCALENDAR