BEGIN:VCALENDAR
VERSION:2.0
PRODID:-//wp-events-plugin.com//6.4.6.4//EN
TZID:Europe/Berlin
X-WR-TIMEZONE:Europe/Berlin
BEGIN:VEVENT
UID:1339@zivilschutz-ooe.at
DTSTART;TZID=Europe/Berlin:20260423T130000
DTEND;TZID=Europe/Berlin:20260423T143000
DTSTAMP:20260204T122354Z
URL:https://zivilschutz-ooe.at/veranstaltungen/kalender/vortrag-krisenfest
 er-haushalt-in-linz-4/
SUMMARY:Vortrag Krisenfester Haushalt in Linz
DESCRIPTION:Für die Mitarbeiter des Seniorenzentrums Linz einen Internen V
 ortrag zum Thema: Krisenfester Haushalt.
CATEGORIES:Vortrag
END:VEVENT
BEGIN:VTIMEZONE
TZID:Europe/Berlin
X-LIC-LOCATION:Europe/Berlin
BEGIN:DAYLIGHT
DTSTART:20260329T030000
TZOFFSETFROM:+0100
TZOFFSETTO:+0200
TZNAME:CEST
END:DAYLIGHT
END:VTIMEZONE
END:VCALENDAR