BEGIN:VCALENDAR
VERSION:2.0
PRODID:-//wp-events-plugin.com//6.4.6.4//EN
TZID:Europe/Berlin
X-WR-TIMEZONE:Europe/Berlin
BEGIN:VEVENT
UID:1338@zivilschutz-ooe.at
DTSTART;TZID=Europe/Berlin:20260318T130000
DTEND;TZID=Europe/Berlin:20260318T150000
DTSTAMP:20260204T122239Z
URL:https://zivilschutz-ooe.at/veranstaltungen/kalender/vortrag-krisenfest
 er-haushalt-in-garsten/
SUMMARY:Vortrag Krisenfester Haushalt in Garsten
DESCRIPTION:Für die Mitarbeiter der JA Garsten einen Internen Vortrag zum 
 Thema: Krisenfester Haushalt.
CATEGORIES:Vortrag
END:VEVENT
BEGIN:VTIMEZONE
TZID:Europe/Berlin
X-LIC-LOCATION:Europe/Berlin
BEGIN:STANDARD
DTSTART:20251026T020000
TZOFFSETFROM:+0200
TZOFFSETTO:+0100
TZNAME:CET
END:STANDARD
END:VTIMEZONE
END:VCALENDAR