BEGIN:VCALENDAR
VERSION:2.0
PRODID:-//wp-events-plugin.com//6.4.6.4//EN
TZID:Europe/Berlin
X-WR-TIMEZONE:Europe/Berlin
BEGIN:VEVENT
UID:1335@zivilschutz-ooe.at
DTSTART;TZID=Europe/Berlin:20260527T083000
DTEND;TZID=Europe/Berlin:20260527T100000
DTSTAMP:20260204T121748Z
URL:https://zivilschutz-ooe.at/veranstaltungen/kalender/vortrag-krisenfest
 er-haushalt-in-ebensee/
SUMMARY:Vortrag Krisenfester Haushalt in Ebensee
DESCRIPTION:Für die Mitarbeiter und Teilnehmen im Bildungszentrum Ebensee 
 hält der Zivilschutzverband einen Vortrag zum Thema Krisenfester Haushalt
 .
CATEGORIES:Vortrag
END:VEVENT
BEGIN:VTIMEZONE
TZID:Europe/Berlin
X-LIC-LOCATION:Europe/Berlin
BEGIN:DAYLIGHT
DTSTART:20260329T030000
TZOFFSETFROM:+0100
TZOFFSETTO:+0200
TZNAME:CEST
END:DAYLIGHT
END:VTIMEZONE
END:VCALENDAR