BEGIN:VCALENDAR
VERSION:2.0
PRODID:-//wp-events-plugin.com//6.4.6.4//EN
TZID:Europe/Berlin
X-WR-TIMEZONE:Europe/Berlin
BEGIN:VEVENT
UID:1334@zivilschutz-ooe.at
DTSTART;TZID=Europe/Berlin:20260317T140000
DTEND;TZID=Europe/Berlin:20260317T153000
DTSTAMP:20260204T121423Z
URL:https://zivilschutz-ooe.at/veranstaltungen/kalender/vortrag-krisenfest
 er-haushalt-im-ukh-linz/
SUMMARY:Vortrag Krisenfester Haushalt im UKH Linz
DESCRIPTION:Für die Mitarbeiter im UKH-Linz hält der Zivilschutzverband e
 inen Vortrag zum Thema Krisenfester Haushalt.
CATEGORIES:Vortrag
END:VEVENT
BEGIN:VTIMEZONE
TZID:Europe/Berlin
X-LIC-LOCATION:Europe/Berlin
BEGIN:STANDARD
DTSTART:20251026T020000
TZOFFSETFROM:+0200
TZOFFSETTO:+0100
TZNAME:CET
END:STANDARD
END:VTIMEZONE
END:VCALENDAR