BEGIN:VCALENDAR
VERSION:2.0
PRODID:-//wp-events-plugin.com//6.4.6.4//EN
TZID:Europe/Berlin
X-WR-TIMEZONE:Europe/Berlin
BEGIN:VEVENT
UID:215@zivilschutz-ooe.at
DTSTART;TZID=Europe/Berlin:20190207T130000
DTEND;TZID=Europe/Berlin:20190207T150000
DTSTAMP:20190207T102021Z
URL:https://zivilschutz-ooe.at/veranstaltungen/kalender/vortrag-11/
SUMMARY:Vortrag
DESCRIPTION:Interner Vortrag für Schüler der Landwirtschaftlichen Fachsch
 ule Burgkirchen (BR).
CATEGORIES:Vortrag
END:VEVENT
BEGIN:VTIMEZONE
TZID:Europe/Berlin
X-LIC-LOCATION:Europe/Berlin
BEGIN:STANDARD
DTSTART:20181028T020000
TZOFFSETFROM:+0200
TZOFFSETTO:+0100
TZNAME:CET
END:STANDARD
END:VTIMEZONE
END:VCALENDAR