BEGIN:VCALENDAR
VERSION:2.0
PRODID:-//wp-events-plugin.com//6.4.6.4//EN
TZID:Europe/Berlin
X-WR-TIMEZONE:Europe/Berlin
BEGIN:VEVENT
UID:738@zivilschutz-ooe.at
DTSTART;TZID=Europe/Berlin:20220911T000000
DTEND;TZID=Europe/Berlin:20220911T000000
DTSTAMP:20220713T095035Z
URL:https://zivilschutz-ooe.at/veranstaltungen/kalender/sicherheitstag-sch
 oerfling/
SUMMARY:Sicherheitstag Schörfling
DESCRIPTION:Wir sind beim Sicherheitstag in Schörfling mit einem Infostand
  vertreten.\n\nDetails folgen!
CATEGORIES:Vortrag
END:VEVENT
BEGIN:VTIMEZONE
TZID:Europe/Berlin
X-LIC-LOCATION:Europe/Berlin
BEGIN:DAYLIGHT
DTSTART:20220327T030000
TZOFFSETFROM:+0100
TZOFFSETTO:+0200
TZNAME:CEST
END:DAYLIGHT
END:VTIMEZONE
END:VCALENDAR