BEGIN:VCALENDAR
VERSION:2.0
PRODID:-//wp-events-plugin.com//6.4.6.4//EN
TZID:Europe/Berlin
X-WR-TIMEZONE:Europe/Berlin
BEGIN:VEVENT
UID:17@zivilschutz-ooe.at
DTSTART;TZID=Europe/Berlin:20171116T183000
DTEND;TZID=Europe/Berlin:20171116T183000
DTSTAMP:20171123T094517Z
URL:https://zivilschutz-ooe.at/veranstaltungen/kalender/sicherheitsforum/
SUMMARY:Sicherheitsforum Attnang-Puchheim
DESCRIPTION:Am 16. 11. 2017 findet im Kino Attnang-Puchheim das Sicherheits
 forum des OÖ Zivilschutzes in Kooperation mit der Polizei statt.  Beginn 
 ist um 18.30 Uhr\, der Eintritt ist frei!
CATEGORIES:Vortrag
LOCATION:Kino Attnang-Puchheim\, Mitterweg\, Attnang-Puchheim\, 4800\, Öst
 erreich
GEO:48.0068456;13.720427800000039
X-APPLE-STRUCTURED-LOCATION;VALUE=URI;X-ADDRESS=Mitterweg\, Attnang-Puchhei
 m\, 4800\, Österreich;X-APPLE-RADIUS=100;X-TITLE=Kino Attnang-Puchheim:ge
 o:48.0068456,13.720427800000039
END:VEVENT
BEGIN:VTIMEZONE
TZID:Europe/Berlin
X-LIC-LOCATION:Europe/Berlin
BEGIN:STANDARD
DTSTART:20171029T020000
TZOFFSETFROM:+0200
TZOFFSETTO:+0100
TZNAME:CET
END:STANDARD
END:VTIMEZONE
END:VCALENDAR