BEGIN:VCALENDAR
VERSION:2.0
PRODID:-//wp-events-plugin.com//6.4.6.4//EN
TZID:Europe/Berlin
X-WR-TIMEZONE:Europe/Berlin
BEGIN:VEVENT
UID:1266@zivilschutz-ooe.at
DTSTART;TZID=Europe/Berlin;VALUE=DATE:20250918
DTEND;TZID=Europe/Berlin;VALUE=DATE:20250921
DTSTAMP:20250406T075102Z
URL:https://zivilschutz-ooe.at/veranstaltungen/kalender/retter-messe-wels-
 2/
SUMMARY:Retter Messe Wels
DESCRIPTION:Besuchen Sie den Infostand des OÖ Zivilschutzes bei der Retter
  Messe in Wels. Nähere Infos gibt es unter www.rettermesse.at!
CATEGORIES:Ausstellungen/Messen
END:VEVENT
BEGIN:VTIMEZONE
TZID:Europe/Berlin
X-LIC-LOCATION:Europe/Berlin
BEGIN:DAYLIGHT
DTSTART:20250330T030000
TZOFFSETFROM:+0100
TZOFFSETTO:+0200
TZNAME:CEST
END:DAYLIGHT
END:VTIMEZONE
END:VCALENDAR