BEGIN:VCALENDAR
VERSION:2.0
PRODID:-//wp-events-plugin.com//6.4.6.4//EN
TZID:Europe/Berlin
X-WR-TIMEZONE:Europe/Berlin
BEGIN:VEVENT
UID:271@zivilschutz-ooe.at
DTSTART;TZID=Europe/Berlin:20191018T000000
DTEND;TZID=Europe/Berlin:20191020T235900
DTSTAMP:20191008T104855Z
URL:https://zivilschutz-ooe.at/veranstaltungen/kalender/messe-steyr/
SUMMARY:Messe Steyr
DESCRIPTION:Der OÖ Zivilschutz ist bei der Messe Steyr am Reithoffergelän
 de mit einem Infostand vertreten
CATEGORIES:Ausstellungen/Messen
END:VEVENT
BEGIN:VTIMEZONE
TZID:Europe/Berlin
X-LIC-LOCATION:Europe/Berlin
BEGIN:DAYLIGHT
DTSTART:20190331T030000
TZOFFSETFROM:+0100
TZOFFSETTO:+0200
TZNAME:CEST
END:DAYLIGHT
END:VTIMEZONE
END:VCALENDAR