BEGIN:VCALENDAR
VERSION:2.0
PRODID:-//wp-events-plugin.com//6.4.6.4//EN
TZID:Europe/Berlin
X-WR-TIMEZONE:Europe/Berlin
BEGIN:VEVENT
UID:1002@zivilschutz-ooe.at
DTSTART;TZID=Europe/Berlin;VALUE=DATE:20230419
DTEND;TZID=Europe/Berlin;VALUE=DATE:20230420
DTSTAMP:20230220T115023Z
URL:https://zivilschutz-ooe.at/veranstaltungen/kalender/kindersicherheitso
 lympiade-steyr-und-steyr-land/
SUMMARY:Kindersicherheitsolympiade Steyr und Steyr-Land
DESCRIPTION:Zivilschutz-Kindersicherheitsolympiade für die 3. und 4. Klass
 en Volksschule. Austragungsort: Wolfern (nähere Infos folgen).\n\nNähere
  Infos und Anmeldung: https://zivilschutz-ooe.at/veranstaltungen/zivilschu
 tz-kindersicherheitsolympiade/
CATEGORIES:Kindersicherheitsolympiade
END:VEVENT
BEGIN:VTIMEZONE
TZID:Europe/Berlin
X-LIC-LOCATION:Europe/Berlin
BEGIN:DAYLIGHT
DTSTART:20230326T030000
TZOFFSETFROM:+0100
TZOFFSETTO:+0200
TZNAME:CEST
END:DAYLIGHT
END:VTIMEZONE
END:VCALENDAR