BEGIN:VCALENDAR
VERSION:2.0
PRODID:-//wp-events-plugin.com//6.4.6.4//EN
TZID:Europe/Berlin
X-WR-TIMEZONE:Europe/Berlin
BEGIN:VEVENT
UID:1142@zivilschutz-ooe.at
DTSTART;TZID=Europe/Berlin;VALUE=DATE:20240523
DTEND;TZID=Europe/Berlin;VALUE=DATE:20240524
DTSTAMP:20231219T143750Z
URL:https://zivilschutz-ooe.at/veranstaltungen/kalender/kindersicherheitso
 lympiade-l/
SUMMARY:Kindersicherheitsolympiade: L
DESCRIPTION:Nähere Infos: https://zivilschutz-ooe.at/veranstaltungen/zivil
 schutz-kindersicherheitsolympiade/
CATEGORIES:Kindersicherheitsolympiade
END:VEVENT
BEGIN:VTIMEZONE
TZID:Europe/Berlin
X-LIC-LOCATION:Europe/Berlin
BEGIN:DAYLIGHT
DTSTART:20240331T030000
TZOFFSETFROM:+0100
TZOFFSETTO:+0200
TZNAME:CEST
END:DAYLIGHT
END:VTIMEZONE
END:VCALENDAR