BEGIN:VCALENDAR
VERSION:2.0
PRODID:-//wp-events-plugin.com//6.4.6.4//EN
TZID:Europe/Berlin
X-WR-TIMEZONE:Europe/Berlin
BEGIN:VEVENT
UID:1064@zivilschutz-ooe.at
DTSTART;TZID=Europe/Berlin:20231109T120000
DTEND;TZID=Europe/Berlin:20231109T160000
DTSTAMP:20230727T054854Z
URL:https://zivilschutz-ooe.at/veranstaltungen/kalender/grundwehrdiener-un
 terweisung-hoersching/
SUMMARY:ÖBH-Grundwehrdiener Unterweisung Hörsching
DESCRIPTION:Interne Zivilschutz-Unterweisung am Fliegerhorst Vogler in Hör
 sching.
CATEGORIES:Vortrag
END:VEVENT
BEGIN:VTIMEZONE
TZID:Europe/Berlin
X-LIC-LOCATION:Europe/Berlin
BEGIN:STANDARD
DTSTART:20231029T020000
TZOFFSETFROM:+0200
TZOFFSETTO:+0100
TZNAME:CET
END:STANDARD
END:VTIMEZONE
END:VCALENDAR