BEGIN:VCALENDAR
VERSION:2.0
PRODID:-//wp-events-plugin.com//6.4.6.4//EN
TZID:Europe/Berlin
X-WR-TIMEZONE:Europe/Berlin
BEGIN:VEVENT
UID:276@zivilschutz-ooe.at
DTSTART;TZID=Europe/Berlin:20190802T000000
DTEND;TZID=Europe/Berlin:20190804T000000
DTSTAMP:20190709T094941Z
URL:https://zivilschutz-ooe.at/veranstaltungen/kalender/boehmerwaldmesse/
SUMMARY:Böhmerwaldmesse
DESCRIPTION:Der OÖ Zivilschutz ist bei der Böhmerwaldmesse in Ulrichsberg
  mit einem Infostand vertreten\, der Zivilschutzbeauftragte Erich Rothbaue
 r hält Vorträge
CATEGORIES:Ausstellungen/Messen
END:VEVENT
BEGIN:VTIMEZONE
TZID:Europe/Berlin
X-LIC-LOCATION:Europe/Berlin
BEGIN:DAYLIGHT
DTSTART:20190331T030000
TZOFFSETFROM:+0100
TZOFFSETTO:+0200
TZNAME:CEST
END:DAYLIGHT
END:VTIMEZONE
END:VCALENDAR