BEGIN:VCALENDAR
VERSION:2.0
PRODID:-//wp-events-plugin.com//6.4.6.4//EN
TZID:Europe/Berlin
X-WR-TIMEZONE:Europe/Berlin
BEGIN:VEVENT
UID:1021@zivilschutz-ooe.at
DTSTART;TZID=Europe/Berlin:20230417T150000
DTEND;TZID=Europe/Berlin:20230417T163000
DTSTAMP:20230220T134009Z
URL:https://zivilschutz-ooe.at/veranstaltungen/kalender/blackout-vortrag-w
 sg-3/
SUMMARY:Blackout-Vortrag WSG
DESCRIPTION:Interner Blackout-Vortrag der WSG OÖ.\n\nVeranstaltungsort: Vo
 lkshaus Dornach.\n\nUhrzeit: 15:00 Uhr.
CATEGORIES:Vortrag
END:VEVENT
BEGIN:VTIMEZONE
TZID:Europe/Berlin
X-LIC-LOCATION:Europe/Berlin
BEGIN:DAYLIGHT
DTSTART:20230326T030000
TZOFFSETFROM:+0100
TZOFFSETTO:+0200
TZNAME:CEST
END:DAYLIGHT
END:VTIMEZONE
END:VCALENDAR