BEGIN:VCALENDAR
VERSION:2.0
PRODID:-//wp-events-plugin.com//6.4.6.4//EN
TZID:Europe/Berlin
X-WR-TIMEZONE:Europe/Berlin
BEGIN:VEVENT
UID:935@zivilschutz-ooe.at
DTSTART;TZID=Europe/Berlin:20230126T190000
DTEND;TZID=Europe/Berlin:20230126T203000
DTSTAMP:20221129T093208Z
URL:https://zivilschutz-ooe.at/veranstaltungen/kalender/blackout-vortrag-w
 artberg-ob-der-aist/
SUMMARY:Blackout-Vortrag Wartberg ob der Aist
DESCRIPTION:Die Marktgemeinde Wartberg ob der Aist lädt zu einem Blackout-
 Vortrag.\n\nWo: Veranstaltungszentrum (Schulstraße 5\, 4224 Wartberg ob d
 er Aist)\n\nBeginn: 19:00 Uhr\n\n&nbsp\;
CATEGORIES:Vortrag
END:VEVENT
BEGIN:VTIMEZONE
TZID:Europe/Berlin
X-LIC-LOCATION:Europe/Berlin
BEGIN:STANDARD
DTSTART:20221030T020000
TZOFFSETFROM:+0200
TZOFFSETTO:+0100
TZNAME:CET
END:STANDARD
END:VTIMEZONE
END:VCALENDAR