BEGIN:VCALENDAR
VERSION:2.0
PRODID:-//wp-events-plugin.com//6.4.6.4//EN
TZID:Europe/Berlin
X-WR-TIMEZONE:Europe/Berlin
BEGIN:VEVENT
UID:740@zivilschutz-ooe.at
DTSTART;TZID=Europe/Berlin:20220912T190000
DTEND;TZID=Europe/Berlin:20220912T210000
DTSTAMP:20220908T112809Z
URL:https://zivilschutz-ooe.at/veranstaltungen/kalender/blackout-vortrag-v
 oecklabruck/
SUMMARY:Blackout-Vortrag Vöcklabruck
DESCRIPTION:Die Stadtgemeinde Vöcklabruck lädt am 12. September zu einem 
 Blackout-Vortrag.\n\nVeranstaltungsort: Landesmusikschule\, Dr.Alois-Scher
 erstrasse 9
CATEGORIES:Veranstaltung
END:VEVENT
BEGIN:VTIMEZONE
TZID:Europe/Berlin
X-LIC-LOCATION:Europe/Berlin
BEGIN:DAYLIGHT
DTSTART:20220327T030000
TZOFFSETFROM:+0100
TZOFFSETTO:+0200
TZNAME:CEST
END:DAYLIGHT
END:VTIMEZONE
END:VCALENDAR