BEGIN:VCALENDAR
VERSION:2.0
PRODID:-//wp-events-plugin.com//6.4.6.4//EN
TZID:Europe/Berlin
X-WR-TIMEZONE:Europe/Berlin
BEGIN:VEVENT
UID:626@zivilschutz-ooe.at
DTSTART;TZID=Europe/Berlin:20220303T190000
DTEND;TZID=Europe/Berlin:20220303T203000
DTSTAMP:20220301T065114Z
URL:https://zivilschutz-ooe.at/veranstaltungen/kalender/blackout-vortrag-v
 erein-ambassador-club-wels/
SUMMARY:Blackout-Vortrag Verein Ambassador Club Wels
DESCRIPTION:Der Verein Ambassador Club Wels lädt zu einem Internen Blackou
 t-Vortrag.\n\nWo: Gasthaus Waldschenke\n\nBeginn: 19:00 Uhr
CATEGORIES:Vortrag
END:VEVENT
BEGIN:VTIMEZONE
TZID:Europe/Berlin
X-LIC-LOCATION:Europe/Berlin
BEGIN:STANDARD
DTSTART:20211031T020000
TZOFFSETFROM:+0200
TZOFFSETTO:+0100
TZNAME:CET
END:STANDARD
END:VTIMEZONE
END:VCALENDAR