BEGIN:VCALENDAR
VERSION:2.0
PRODID:-//wp-events-plugin.com//6.4.6.4//EN
TZID:Europe/Berlin
X-WR-TIMEZONE:Europe/Berlin
BEGIN:VEVENT
UID:365@zivilschutz-ooe.at
DTSTART;TZID=Europe/Berlin:20200319T193000
DTEND;TZID=Europe/Berlin:20200319T213000
DTSTAMP:20200312T064616Z
URL:https://zivilschutz-ooe.at/veranstaltungen/kalender/blackout-vortrag-t
 ollet-2/
SUMMARY:ABGESAGT Blackout-Vortrag Tollet
DESCRIPTION:ABGESAGT! \n\nAufgrund der aktuellen Regierungsvorgabe bezügl
 . Coronavirus wurde die Veranstaltung abgesagt.\n\nÖffentlicher Blackout-
 Vortrag auf Einladung der Gemeinde Tollet\n\nWo: Schloss Tollet\, Jörgers
 aal\, Tollet 1\, 4710 Grieskirchen\n\nEintritt frei
CATEGORIES:Vortrag
END:VEVENT
BEGIN:VTIMEZONE
TZID:Europe/Berlin
X-LIC-LOCATION:Europe/Berlin
BEGIN:STANDARD
DTSTART:20191027T020000
TZOFFSETFROM:+0200
TZOFFSETTO:+0100
TZNAME:CET
END:STANDARD
END:VTIMEZONE
END:VCALENDAR