BEGIN:VCALENDAR
VERSION:2.0
PRODID:-//wp-events-plugin.com//6.4.6.4//EN
TZID:Europe/Berlin
X-WR-TIMEZONE:Europe/Berlin
BEGIN:VEVENT
UID:628@zivilschutz-ooe.at
DTSTART;TZID=Europe/Berlin:20220427T190000
DTEND;TZID=Europe/Berlin:20220427T210000
DTSTAMP:20220301T070737Z
URL:https://zivilschutz-ooe.at/veranstaltungen/kalender/blackout-vortrag-s
 uben/
SUMMARY:Blackout-Vortrag Suben
DESCRIPTION:Die Gemeinde Suben lädt am 27.04.2022 zu einem Blackout-Vortra
 g.\n\nWo: Veranstaltungssaal Gemeindeamt\n\n&nbsp\;
CATEGORIES:Vortrag
END:VEVENT
BEGIN:VTIMEZONE
TZID:Europe/Berlin
X-LIC-LOCATION:Europe/Berlin
BEGIN:DAYLIGHT
DTSTART:20220327T030000
TZOFFSETFROM:+0100
TZOFFSETTO:+0200
TZNAME:CEST
END:DAYLIGHT
END:VTIMEZONE
END:VCALENDAR