BEGIN:VCALENDAR
VERSION:2.0
PRODID:-//wp-events-plugin.com//6.4.6.4//EN
TZID:Europe/Berlin
X-WR-TIMEZONE:Europe/Berlin
BEGIN:VEVENT
UID:736@zivilschutz-ooe.at
DTSTART;TZID=Europe/Berlin:20220922T190000
DTEND;TZID=Europe/Berlin:20220922T210000
DTSTAMP:20220915T112210Z
URL:https://zivilschutz-ooe.at/veranstaltungen/kalender/blackout-vortrag-r
 ied-im-innkreis/
SUMMARY:Blackout-Vortrag Ried im Innkreis
DESCRIPTION:Die ÖAAB Stadtgruppe Ried am Donnerstag\, den 22. September zu
  einem Blackout-Vortrag.\n\nVeranstaltungsort: Wohnwelt Maier Ried\n\nBegi
 nn: 19:00 Uhr
CATEGORIES:Veranstaltung
END:VEVENT
BEGIN:VTIMEZONE
TZID:Europe/Berlin
X-LIC-LOCATION:Europe/Berlin
BEGIN:DAYLIGHT
DTSTART:20220327T030000
TZOFFSETFROM:+0100
TZOFFSETTO:+0200
TZNAME:CEST
END:DAYLIGHT
END:VTIMEZONE
END:VCALENDAR