BEGIN:VCALENDAR
VERSION:2.0
PRODID:-//wp-events-plugin.com//6.4.6.4//EN
TZID:Europe/Berlin
X-WR-TIMEZONE:Europe/Berlin
BEGIN:VEVENT
UID:609@zivilschutz-ooe.at
DTSTART;TZID=Europe/Berlin:20220311T140000
DTEND;TZID=Europe/Berlin:20220311T153000
DTSTAMP:20220210T151656Z
URL:https://zivilschutz-ooe.at/veranstaltungen/kalender/blackout-vortrag-p
 ensionistenverband-og-linz-froschberg/
SUMMARY:Blackout-Vortrag Pensionistenverband OG Linz-Froschberg
DESCRIPTION:Der Pensionistenverband Ortsgruppe Linz-Froschberg lädt zu ein
 em Internen Blackout-Vortrag.\n\nWo: Volkshaus Froschberg\n\nBeginn: 14:00
  Uhr
CATEGORIES:Vortrag
END:VEVENT
BEGIN:VTIMEZONE
TZID:Europe/Berlin
X-LIC-LOCATION:Europe/Berlin
BEGIN:STANDARD
DTSTART:20211031T020000
TZOFFSETFROM:+0200
TZOFFSETTO:+0100
TZNAME:CET
END:STANDARD
END:VTIMEZONE
END:VCALENDAR