BEGIN:VCALENDAR
VERSION:2.0
PRODID:-//wp-events-plugin.com//6.4.6.4//EN
TZID:Europe/Berlin
X-WR-TIMEZONE:Europe/Berlin
BEGIN:VEVENT
UID:627@zivilschutz-ooe.at
DTSTART;TZID=Europe/Berlin:20220414T140000
DTEND;TZID=Europe/Berlin:20220414T153000
DTSTAMP:20220301T070330Z
URL:https://zivilschutz-ooe.at/veranstaltungen/kalender/blackout-vortrag-p
 ensionistenverband-holzleithen-hausruckedt/
SUMMARY:Blackout-Vortrag Pensionistenverband Holzleithen-Hausruckedt
DESCRIPTION:Der Pensionistenverband Holzleithen-Hausruckedt lädt zu einem 
 Internen Blackout-Vortrag.\n\nWo: Gemeindesaal Ottnang am Hausruck\n\nBegi
 nn: 14:00 Uhr
CATEGORIES:Vortrag
END:VEVENT
BEGIN:VTIMEZONE
TZID:Europe/Berlin
X-LIC-LOCATION:Europe/Berlin
BEGIN:DAYLIGHT
DTSTART:20220327T030000
TZOFFSETFROM:+0100
TZOFFSETTO:+0200
TZNAME:CEST
END:DAYLIGHT
END:VTIMEZONE
END:VCALENDAR