BEGIN:VCALENDAR
VERSION:2.0
PRODID:-//wp-events-plugin.com//6.4.6.4//EN
TZID:Europe/Berlin
X-WR-TIMEZONE:Europe/Berlin
BEGIN:VEVENT
UID:1090@zivilschutz-ooe.at
DTSTART;TZID=Europe/Berlin:20231115T100000
DTEND;TZID=Europe/Berlin:20231115T113000
DTSTAMP:20231010T074435Z
URL:https://zivilschutz-ooe.at/veranstaltungen/kalender/blackout-vortrag-l
 inz-27/
SUMMARY:Blackout-Vortrag Linz
DESCRIPTION:Interner Web-Blackoutvortrag für die Mitarbeiter des Vereins z
 ur Förderung von Arbeit und Beschäftigung.
CATEGORIES:Vortrag
END:VEVENT
BEGIN:VTIMEZONE
TZID:Europe/Berlin
X-LIC-LOCATION:Europe/Berlin
BEGIN:STANDARD
DTSTART:20231029T020000
TZOFFSETFROM:+0200
TZOFFSETTO:+0100
TZNAME:CET
END:STANDARD
END:VTIMEZONE
END:VCALENDAR