BEGIN:VCALENDAR
VERSION:2.0
PRODID:-//wp-events-plugin.com//6.4.6.4//EN
TZID:Europe/Berlin
X-WR-TIMEZONE:Europe/Berlin
BEGIN:VEVENT
UID:974@zivilschutz-ooe.at
DTSTART;TZID=Europe/Berlin:20230308T143000
DTEND;TZID=Europe/Berlin:20230308T154500
DTSTAMP:20230214T123410Z
URL:https://zivilschutz-ooe.at/veranstaltungen/kalender/blackout-vortrag-l
 inz-23/
SUMMARY:Blackout-Vortrag Linz
DESCRIPTION:Der Seniorenbund Auhof-Dornach-Katzbach-St. Magdalena lädt fü
 r seine Mitglieder zum Vortrag Blackout\n\nam Mittwoch\, 08.März 2023.\n
 \nVeranstaltungsort: Pfarre Hl. Geist in der Schumpeterstrasse 3\, 4040 Li
 nz.\n\nBeginn: 14:30
CATEGORIES:Vortrag
END:VEVENT
BEGIN:VTIMEZONE
TZID:Europe/Berlin
X-LIC-LOCATION:Europe/Berlin
BEGIN:STANDARD
DTSTART:20221030T020000
TZOFFSETFROM:+0200
TZOFFSETTO:+0100
TZNAME:CET
END:STANDARD
END:VTIMEZONE
END:VCALENDAR