BEGIN:VCALENDAR
VERSION:2.0
PRODID:-//wp-events-plugin.com//6.4.6.4//EN
TZID:Europe/Berlin
X-WR-TIMEZONE:Europe/Berlin
BEGIN:VEVENT
UID:1072@zivilschutz-ooe.at
DTSTART;TZID=Europe/Berlin;VALUE=DATE:20230907
DTEND;TZID=Europe/Berlin;VALUE=DATE:20230908
DTSTAMP:20230905T113451Z
URL:https://zivilschutz-ooe.at/veranstaltungen/kalender/blackout-vortrag-k
 riesenfester-haushalt-vortrag-eferding/
SUMMARY:Blackout-Vortrag/ Kriesenfester Haushalt Vortrag Eferding
DESCRIPTION:Der OÖ Zivilschutz ist am Eferdinger  Zivilschutztag mit eine
 m Stand und einem Vortrag zum Thema Kriesenfester Haushalt vertreten.
CATEGORIES:Veranstaltung
END:VEVENT
BEGIN:VTIMEZONE
TZID:Europe/Berlin
X-LIC-LOCATION:Europe/Berlin
BEGIN:DAYLIGHT
DTSTART:20230326T030000
TZOFFSETFROM:+0100
TZOFFSETTO:+0200
TZNAME:CEST
END:DAYLIGHT
END:VTIMEZONE
END:VCALENDAR