BEGIN:VCALENDAR
VERSION:2.0
PRODID:-//wp-events-plugin.com//6.4.6.4//EN
TZID:Europe/Berlin
X-WR-TIMEZONE:Europe/Berlin
BEGIN:VEVENT
UID:975@zivilschutz-ooe.at
DTSTART;TZID=Europe/Berlin:20230309T190000
DTEND;TZID=Europe/Berlin:20230309T203000
DTSTAMP:20230214T124113Z
URL:https://zivilschutz-ooe.at/veranstaltungen/kalender/blackout-vortrag-h
 irschbach-im-muehlkreis/
SUMMARY:Blackout-Vortrag Hirschbach im Mühlkreis
DESCRIPTION:Die Gemeinde Hirschbach im Mühlkreis lädt zu einem Blackout-V
 ortrag.\n\nWo: Gasthof Hirschbacherwirt\n\nBeginn: 19.00 Uhr
CATEGORIES:Vortrag
END:VEVENT
BEGIN:VTIMEZONE
TZID:Europe/Berlin
X-LIC-LOCATION:Europe/Berlin
BEGIN:STANDARD
DTSTART:20221030T020000
TZOFFSETFROM:+0200
TZOFFSETTO:+0100
TZNAME:CET
END:STANDARD
END:VTIMEZONE
END:VCALENDAR