BEGIN:VCALENDAR
VERSION:2.0
PRODID:-//wp-events-plugin.com//6.4.6.4//EN
TZID:Europe/Berlin
X-WR-TIMEZONE:Europe/Berlin
BEGIN:VEVENT
UID:1059@zivilschutz-ooe.at
DTSTART;TZID=Europe/Berlin:20231122T193000
DTEND;TZID=Europe/Berlin:20231122T210000
DTSTAMP:20230809T115902Z
URL:https://zivilschutz-ooe.at/veranstaltungen/kalender/blackout-vortrag-f
 ornach/
SUMMARY:Blackout-Vortrag Fornach
DESCRIPTION:Die Gemeinde Fornach lädt am Mittwoch\, 22. November zu einem 
 Blackout-Vortrag.\n\nVeranstaltungsort: Mehrzweckhalle\, 4892 Fornach\n\nB
 eginn: 19:30 Uhr.
CATEGORIES:Vortrag
END:VEVENT
BEGIN:VTIMEZONE
TZID:Europe/Berlin
X-LIC-LOCATION:Europe/Berlin
BEGIN:STANDARD
DTSTART:20231029T020000
TZOFFSETFROM:+0200
TZOFFSETTO:+0100
TZNAME:CET
END:STANDARD
END:VTIMEZONE
END:VCALENDAR