BEGIN:VCALENDAR
VERSION:2.0
PRODID:-//wp-events-plugin.com//6.4.6.4//EN
TZID:Europe/Berlin
X-WR-TIMEZONE:Europe/Berlin
BEGIN:VEVENT
UID:1075@zivilschutz-ooe.at
DTSTART;TZID=Europe/Berlin:20231114T100000
DTEND;TZID=Europe/Berlin:20231114T120000
DTSTAMP:20231009T063940Z
URL:https://zivilschutz-ooe.at/veranstaltungen/kalender/blackout-vortrag-f
 f-haus-der-ff-steyrling/
SUMMARY:Blackout-Vortrag FF-Haus der FF Steyrling
DESCRIPTION:Die Polizeidienststelle Kirchdorf an der Krems veranstaltet am 
 Dienstag\, 14.11.2023 einen Internen Blackout-Vortrag\n\nVeranstaltungsort
 : FF-Haus der FF Steyrling.\n\nUhrzeit: 10:00 Uhr.
CATEGORIES:Vortrag
END:VEVENT
BEGIN:VTIMEZONE
TZID:Europe/Berlin
X-LIC-LOCATION:Europe/Berlin
BEGIN:STANDARD
DTSTART:20231029T020000
TZOFFSETFROM:+0200
TZOFFSETTO:+0100
TZNAME:CET
END:STANDARD
END:VTIMEZONE
END:VCALENDAR