BEGIN:VCALENDAR
VERSION:2.0
PRODID:-//wp-events-plugin.com//6.4.6.4//EN
TZID:Europe/Berlin
X-WR-TIMEZONE:Europe/Berlin
BEGIN:VEVENT
UID:1073@zivilschutz-ooe.at
DTSTART;TZID=Europe/Berlin:20240207T150000
DTEND;TZID=Europe/Berlin:20240207T163000
DTSTAMP:20230907T082806Z
URL:https://zivilschutz-ooe.at/veranstaltungen/kalender/blackout-vortrag-d
 ornach/
SUMMARY:Blackout-Vortrag Dornach
DESCRIPTION:Die Ortsgruppe Tabak lädt zum Blackout-Vortrag.\n\nVeranstaltu
 ngsort: Volkshaus Dornach-Auhof\, Niedermayrweg 7 – 4040 Linz\n\nUhrzeit
 : 15:00 Uhr
CATEGORIES:Vortrag
END:VEVENT
BEGIN:VTIMEZONE
TZID:Europe/Berlin
X-LIC-LOCATION:Europe/Berlin
BEGIN:STANDARD
DTSTART:20231029T020000
TZOFFSETFROM:+0200
TZOFFSETTO:+0100
TZNAME:CET
END:STANDARD
END:VTIMEZONE
END:VCALENDAR