BEGIN:VCALENDAR
VERSION:2.0
PRODID:-//wp-events-plugin.com//6.4.6.4//EN
TZID:Europe/Berlin
X-WR-TIMEZONE:Europe/Berlin
BEGIN:VEVENT
UID:739@zivilschutz-ooe.at
DTSTART;TZID=Europe/Berlin:20220912T140000
DTEND;TZID=Europe/Berlin:20220912T153000
DTSTAMP:20220713T095718Z
URL:https://zivilschutz-ooe.at/veranstaltungen/kalender/blackout-vortrag-b
 eim-seniorenbund-bad-leonfelden/
SUMMARY:Blackout-Vortrag beim Seniorenbund Bad Leonfelden
DESCRIPTION:Der Seniorenbund Bad Leonfelden veranstaltet am 12. September f
 ür seine Mitglieder einen Blackout-Vortrag.\n\nWo: Leonfeldner-Hof\n\n&nb
 sp\;
CATEGORIES:Vortrag
END:VEVENT
BEGIN:VTIMEZONE
TZID:Europe/Berlin
X-LIC-LOCATION:Europe/Berlin
BEGIN:DAYLIGHT
DTSTART:20220327T030000
TZOFFSETFROM:+0100
TZOFFSETTO:+0200
TZNAME:CEST
END:DAYLIGHT
END:VTIMEZONE
END:VCALENDAR