BEGIN:VCALENDAR
VERSION:2.0
PRODID:-//wp-events-plugin.com//6.4.6.4//EN
TZID:Europe/Berlin
X-WR-TIMEZONE:Europe/Berlin
BEGIN:VEVENT
UID:647@zivilschutz-ooe.at
DTSTART;TZID=Europe/Berlin:20220323T093000
DTEND;TZID=Europe/Berlin:20220323T120000
DTSTAMP:20220317T084952Z
URL:https://zivilschutz-ooe.at/veranstaltungen/kalender/blackout-vortrag-b
 ei-der-jahreshauptversammlung-des-seniorenbundes-pabneukirchen/
SUMMARY:Blackout-Vortrag bei der Jahreshauptversammlung des Seniorenbundes 
 Pabneukirchen
DESCRIPTION:Der Zivilschutz ist bei der Jahreshauptversammlung des Senioren
 bundes Pabneukirchen mit einem Blackout-Vortrag vertreten.\n\nWo: Gasthaus
  Fischelmaier\n\nBeginn: 09:30 Uhr
CATEGORIES:Vortrag
END:VEVENT
BEGIN:VTIMEZONE
TZID:Europe/Berlin
X-LIC-LOCATION:Europe/Berlin
BEGIN:STANDARD
DTSTART:20211031T020000
TZOFFSETFROM:+0200
TZOFFSETTO:+0100
TZNAME:CET
END:STANDARD
END:VTIMEZONE
END:VCALENDAR