BEGIN:VCALENDAR
VERSION:2.0
PRODID:-//wp-events-plugin.com//6.4.6.4//EN
TZID:Europe/Berlin
X-WR-TIMEZONE:Europe/Berlin
BEGIN:VEVENT
UID:1091@zivilschutz-ooe.at
DTSTART;TZID=Europe/Berlin:20231121T190000
DTEND;TZID=Europe/Berlin:20231121T210000
DTSTAMP:20231023T060332Z
URL:https://zivilschutz-ooe.at/veranstaltungen/kalender/blackout-vortrag-b
 ad-ischl-2/
SUMMARY:Blackout-Vortrag Bad Ischl
DESCRIPTION:Der Kiwanis-Club und die HLW Bad Ischl veranstalten am Dienstag
 \, 21.November einen Blackout-Vortrag.\n\nVeranstaltungsort:  Aula der Sc
 hule in der Kaltenbachstraße 19 in Bad Ischl.\n\nUhrzeit: 19:00 Uhr.
CATEGORIES:Vortrag
END:VEVENT
BEGIN:VTIMEZONE
TZID:Europe/Berlin
X-LIC-LOCATION:Europe/Berlin
BEGIN:STANDARD
DTSTART:20231029T020000
TZOFFSETFROM:+0200
TZOFFSETTO:+0100
TZNAME:CET
END:STANDARD
END:VTIMEZONE
END:VCALENDAR