BEGIN:VCALENDAR
VERSION:2.0
PRODID:-//wp-events-plugin.com//6.4.6.4//EN
TZID:Europe/Berlin
X-WR-TIMEZONE:Europe/Berlin
BEGIN:VEVENT
UID:99@zivilschutz-ooe.at
DTSTART;TZID=Europe/Berlin:20180323T190000
DTEND;TZID=Europe/Berlin:20180323T210000
DTSTAMP:20180323T063214Z
URL:https://zivilschutz-ooe.at/veranstaltungen/kalender/blackout-vortrag-1
 2/
SUMMARY:Blackout-Vortrag
DESCRIPTION:Vortrag bei der Versammlung des Siedlervereines. Referent: Bezi
 rksleiter Gerhard Gierlinger
CATEGORIES:Vortrag
LOCATION:Landgasthof Ebner\, Hauzing 7\, Rainbach im Innkreis\, 4791\, Öst
 erreich
GEO:48.4514582;13.537884800000029
X-APPLE-STRUCTURED-LOCATION;VALUE=URI;X-ADDRESS=Hauzing 7\, Rainbach im Inn
 kreis\, 4791\, Österreich;X-APPLE-RADIUS=100;X-TITLE=Landgasthof Ebner:ge
 o:48.4514582,13.537884800000029
END:VEVENT
BEGIN:VTIMEZONE
TZID:Europe/Berlin
X-LIC-LOCATION:Europe/Berlin
BEGIN:STANDARD
DTSTART:20171029T020000
TZOFFSETFROM:+0200
TZOFFSETTO:+0100
TZNAME:CET
END:STANDARD
END:VTIMEZONE
END:VCALENDAR