BEGIN:VCALENDAR
VERSION:2.0
PRODID:-//wp-events-plugin.com//6.4.6.4//EN
TZID:Europe/Berlin
X-WR-TIMEZONE:Europe/Berlin
BEGIN:VEVENT
UID:134@zivilschutz-ooe.at
DTSTART;TZID=Europe/Berlin:20180918T103000
DTEND;TZID=Europe/Berlin:20180918T110000
DTSTAMP:20180710T085208Z
URL:https://zivilschutz-ooe.at/veranstaltungen/kalender/bezirksleiter-besp
 rechung-4/
SUMMARY:Bezirksleiter-Besprechung
DESCRIPTION:Interne Besprechung der Zivilschutz-Bezirksleiter im Landesfeue
 rwehrkommando OÖ.
CATEGORIES:Zivilschutz intern
END:VEVENT
BEGIN:VTIMEZONE
TZID:Europe/Berlin
X-LIC-LOCATION:Europe/Berlin
BEGIN:DAYLIGHT
DTSTART:20180325T030000
TZOFFSETFROM:+0100
TZOFFSETTO:+0200
TZNAME:CEST
END:DAYLIGHT
END:VTIMEZONE
END:VCALENDAR