BEGIN:VCALENDAR
VERSION:2.0
PRODID:-//wp-events-plugin.com//6.4.6.4//EN
TZID:Europe/Berlin
X-WR-TIMEZONE:Europe/Berlin
BEGIN:VEVENT
UID:100@zivilschutz-ooe.at
DTSTART;TZID=Europe/Berlin:20180625T100000
DTEND;TZID=Europe/Berlin:20180625T120000
DTSTAMP:20180326T142433Z
URL:https://zivilschutz-ooe.at/veranstaltungen/kalender/bezirksleiter-besp
 rechung-2/
SUMMARY:Bezirksleiter-Besprechung
DESCRIPTION:Zivilschutz-interne Sitzung für geladene Mitglieder.
CATEGORIES:Zivilschutz intern
LOCATION:Landesfeuerwehrkommando OÖ\, Petzoldstraße 43\, Linz\, 4020\, Ö
 sterreich
GEO:48.3103028;14.310136199999988
X-APPLE-STRUCTURED-LOCATION;VALUE=URI;X-ADDRESS=Petzoldstraße 43\, Linz\, 
 4020\, Österreich;X-APPLE-RADIUS=100;X-TITLE=Landesfeuerwehrkommando OÖ:
 geo:48.3103028,14.310136199999988
END:VEVENT
BEGIN:VTIMEZONE
TZID:Europe/Berlin
X-LIC-LOCATION:Europe/Berlin
BEGIN:DAYLIGHT
DTSTART:20180325T030000
TZOFFSETFROM:+0100
TZOFFSETTO:+0200
TZNAME:CEST
END:DAYLIGHT
END:VTIMEZONE
END:VCALENDAR