BEGIN:VCALENDAR
VERSION:2.0
PRODID:-//wp-events-plugin.com//6.4.6.4//EN
TZID:Europe/Berlin
X-WR-TIMEZONE:Europe/Berlin
BEGIN:VEVENT
UID:262@zivilschutz-ooe.at
DTSTART;TZID=Europe/Berlin:20190706T000000
DTEND;TZID=Europe/Berlin:20190706T000000
DTSTAMP:20190627T132336Z
URL:https://zivilschutz-ooe.at/veranstaltungen/kalender/baedertour-perg-2/
SUMMARY:Bädertour Perg
DESCRIPTION:Die Zivilschutz-Bädertour macht am 26. Juli Halt in Perg.\n\nB
 ei der Bädertour gibt es nicht nur wertvolle Selbstschutztipps und Infoma
 terialien\, es können bei einem Sicherheitsspiel auch tolle Wasserbälle 
 gewonnen werden. Der Zivilschutz-Folder „Sicher baden“\, der bei der B
 ädertour verteilt wird\, gibt wertvolle Tipps zur Unfallvermeidung. Zusä
 tzlich wird mit dem Sicherheitsspiel an die verschiedenen Notrufnummern\, 
 die jeder Bürger für Krisenfälle wissen sollte\, erinnert. Auf den Wass
 erbällen sind die Notrufnummern ebenfalls abgedruckt.\n\nNähere Infos er
 fahren Sie bei der Gemeinde.\n\n&nbsp\;
CATEGORIES:Veranstaltung
END:VEVENT
BEGIN:VTIMEZONE
TZID:Europe/Berlin
X-LIC-LOCATION:Europe/Berlin
BEGIN:DAYLIGHT
DTSTART:20190331T030000
TZOFFSETFROM:+0100
TZOFFSETTO:+0200
TZNAME:CEST
END:DAYLIGHT
END:VTIMEZONE
END:VCALENDAR