BEGIN:VCALENDAR
VERSION:2.0
PRODID:-//wp-events-plugin.com//6.4.6.4//EN
TZID:Europe/Berlin
X-WR-TIMEZONE:Europe/Berlin
BEGIN:VEVENT
UID:1158@zivilschutz-ooe.at
DTSTART;TZID=Europe/Berlin:20240423T190000
DTEND;TZID=Europe/Berlin:20240423T210000
DTSTAMP:20240417T130130Z
URL:https://zivilschutz-ooe.at/veranstaltungen/kalender/altenberg-bei-linz
 /
SUMMARY:Altenberg bei Linz
DESCRIPTION:Präsentation "Notfallplan Blackout" - Vortrag und Podiumsdisku
 ssion.\nVeranstaltungsort: Gasthaus Prangl.\n\nUhrzeit: 19:00.
CATEGORIES:Veranstaltung
END:VEVENT
BEGIN:VTIMEZONE
TZID:Europe/Berlin
X-LIC-LOCATION:Europe/Berlin
BEGIN:DAYLIGHT
DTSTART:20240331T030000
TZOFFSETFROM:+0100
TZOFFSETTO:+0200
TZNAME:CEST
END:DAYLIGHT
END:VTIMEZONE
END:VCALENDAR