BEGIN:VCALENDAR
VERSION:2.0
PRODID:-//wp-events-plugin.com//6.4.6.4//EN
TZID:Europe/Berlin
X-WR-TIMEZONE:Europe/Berlin
BEGIN:VEVENT
UID:1074@zivilschutz-ooe.at
DTSTART;TZID=Europe/Berlin:20230927T140000
DTEND;TZID=Europe/Berlin:20230927T150000
DTSTAMP:20230912T055249Z
URL:https://zivilschutz-ooe.at/veranstaltungen/kalender/64443/
SUMMARY:Blackout-Vortrag Ohlsdorf
DESCRIPTION:Der Seniorenbund Ohlsdorf veranstaltet am Mittwoch \, den 27. S
 eptember einen Internen Blackout-Vortrag.\n\nVeranstaltungsort: Wellness &
 amp\; Hotel &amp\; Gasthaus Enichlmayr\, Ehrenfeld 1\, 4694 Ohlsdorf\n\nBe
 ginn: 14:00 Uhr
CATEGORIES:Vortrag
END:VEVENT
BEGIN:VTIMEZONE
TZID:Europe/Berlin
X-LIC-LOCATION:Europe/Berlin
BEGIN:DAYLIGHT
DTSTART:20230326T030000
TZOFFSETFROM:+0100
TZOFFSETTO:+0200
TZNAME:CEST
END:DAYLIGHT
END:VTIMEZONE
END:VCALENDAR