BEGIN:VCALENDAR
VERSION:2.0
PRODID:-//wp-events-plugin.com//6.4.6.4//EN
TZID:Europe/Berlin
X-WR-TIMEZONE:Europe/Berlin
BEGIN:VEVENT
UID:121@zivilschutz-ooe.at
DTSTART;TZID=Europe/Berlin:20180928T100000
DTEND;TZID=Europe/Berlin:20180928T160000
DTSTAMP:20180607T091024Z
URL:https://zivilschutz-ooe.at/veranstaltungen/kalender/150-jahre-bh-rohrb
 ach/
SUMMARY:150 Jahre BH Rohrbach
DESCRIPTION:Zivilschutz-Infostand bei der 150-Jahr-Feier der Bezirkshauptma
 nnschaft Rohrbach
CATEGORIES:Veranstaltung
LOCATION:Bezirkshauptmannschaft Rohrbach\, Am Teich 1\, Rohrbach-Berg\, 415
 0\, Österreich
GEO:48.57413280000001;13.99157379999997
X-APPLE-STRUCTURED-LOCATION;VALUE=URI;X-ADDRESS=Am Teich 1\, Rohrbach-Berg\
 , 4150\, Österreich;X-APPLE-RADIUS=100;X-TITLE=Bezirkshauptmannschaft Roh
 rbach:geo:48.57413280000001,13.99157379999997
END:VEVENT
BEGIN:VTIMEZONE
TZID:Europe/Berlin
X-LIC-LOCATION:Europe/Berlin
BEGIN:DAYLIGHT
DTSTART:20180325T030000
TZOFFSETFROM:+0100
TZOFFSETTO:+0200
TZNAME:CEST
END:DAYLIGHT
END:VTIMEZONE
END:VCALENDAR